{"text_format":"3","workbook":"xlsx","n_sheets":12,"sheets":["Прочитайте","Журнал К","Участие","ВД","Протокол ВД","Диаграмма ВД","ПА","Протокол ПА","Диаграмма ПА","А","Протокол А ","Диаграмма А"],"not_rendered":{"charts":6,"defined_names":12},"unopened":[{"sheet":"Диаграмма ВД","index":5,"reason":"not_a_worksheet"},{"sheet":"Диаграмма ПА","index":8,"reason":"not_a_worksheet"},{"sheet":"Диаграмма А","index":11,"reason":"not_a_worksheet"}],"read":"whole","date_system":"1900"}

{"sheet":"Прочитайте","index":0,"n_rows":19,"n_cols":1,"rows_kept":19}
["Это Журнал контроля - ЖК; создан для фиксации результатов периодического контроля осовения программы и движения учащихся"]
["Переименуйте файл по образцу \"2021-22 ЖК Алтын 6-1\", где после ЖК название объединения и последние 2 цифры обозначают количество групп и год обучения  "]
["До начала работы сделайте копию файла на другом носителе (в другом каталоге); всегда архивируйте файл после работы"]
["Во всех листах, где необходимо, в ячейках со шрифтом черного цвета нужно вписывать результаты"]
["Во всех листах файла ячейки значений со шрифтом красного цвета не редактируем! Там формулы! "]
["Во всех листах, где необходимо, нужно вписать необходимую аналогичную информацию по образцу "]
["В листе \"Журнал КУ\" графы  1,2,3,4,5,6 - это виды критерии заявленных оценочных материалов  "]
["1 - Умеет определять вертикальные и горизонтальные клетки, показывать, например, клетку А1, Н8; различать и называть шахматные фигуры (пешка, слон, конь, ладья, ферзь, король)"]
["2 -Умеет расставлять шахматные фигуры в начальное положение;  владеет основными шахматными терминами"]
["3 - Правильно применять элементарные правила игры, знать, как ходят фигуры; имеет представление о некоторых тактических приемах"]
["4 - Активно применяет тактические приемы в игре"]
["5 - Играет малым числом фигур; не теряться при игре с малым числом фигур в эндшпиле"]
["6 - Умеет рационально использовать свое время на обдумывание ответов, действий и ходов в партии"]
[" "]
[" "]
[" "]
[" "]
[" "]
[" "]

{"sheet":"Журнал К","index":1,"n_rows":20,"n_cols":24,"rows_kept":20,"merged":[[0,0,0,23],[1,0,1,23],[2,2,2,8],[2,9,2,15],[2,16,2,23],[4,0,4,22]]}
["Журнал контроля 2022-2023 у.г. учащихся по группам группы  объединения "]
[" \"Шахматы\""]
["№№","ФИО учащегося","Входная диагностика",{"$nulls":6},"Промежуточная аттестация",{"$nulls":6},"Аттестация по завершению реализации Программы"]
[" "," ",1,2,3,4,5,6,"общий",1,2,3,4,5,6,"общий",1,2,3,4,5,6,"общий","Участие"]
[1]
[1,"Анастасия",15,15,0,0,0,0,{"$f":"SUM(C6:H6)","v":30},15,15,15,15,0,0,{"$f":"SUM(J6:O6)","v":60},15,15,15,15,0,0,{"$f":"SUM(Q6:V6)+X6","v":64},{"$f":"Участие!K6","v":4}]
[2,"Булат",15,0,0,0,0,0,15,15,15,15,15,0,0,60,15,15,15,15,15,0,78,{"$f":"Участие!K7","v":3}]
[3,"Владимир",15,15,15,0,0,0,45,15,15,15,15,15,0,75,15,15,15,15,15,15,94,{"$f":"Участие!K8","v":4}]
[4,"Дмитрий",15,0,0,0,0,0,15,15,15,15,15,0,0,60,15,15,15,15,0,0,64,{"$f":"Участие!K9","v":4}]
[5,"Евгения",15,15,0,0,0,0,30,15,15,15,15,0,0,60,15,15,15,15,0,0,64,{"$f":"Участие!K10","v":4}]
[6,"Игорь",15,0,15,0,0,0,30,15,15,15,15,0,0,60,15,15,15,15,0,0,63,{"$f":"Участие!K11","v":3}]
[7,"Камиль",15,15,0,0,0,0,30,15,15,15,15,15,0,75,15,15,15,15,15,15,94,{"$f":"Участие!K12","v":4}]
[8,"Ленара",15,0,0,0,0,0,15,15,15,15,15,0,0,60,15,15,15,15,0,0,64,{"$f":"Участие!K13","v":4}]
[9,"Мурат",15,15,15,0,0,0,45,15,15,15,15,15,15,90,15,15,15,15,15,15,93,{"$f":"Участие!K14","v":3}]
[10,"Олег",0,0,0,0,0,0,0,15,15,15,15,0,0,60,15,15,15,15,15,0,80,{"$f":"Участие!K15","v":5}]
[11,"Петр",15,15,0,0,0,0,30,15,15,15,15,0,0,60,15,15,15,15,0,0,63,{"$f":"Участие!K16","v":3}]
[12,"Самат",0,0,0,0,0,0,0,15,15,15,15,0,0,60,15,15,15,15,15,0,79,{"$f":"Участие!K17","v":4}]
[13,"Самина",15,15,15,0,0,0,45,15,15,15,15,15,0,75,15,15,15,15,15,15,93,{"$f":"Участие!K18","v":3}]
[14,"Тарас",15,15,0,0,0,0,30,15,15,15,15,0,0,60,15,15,15,15,15,0,83,{"$f":"Участие!K19","v":8}]
[15,"Тимур",0,0,0,0,0,0,0,15,15,15,15,0,0,60,15,15,15,15,15,0,78,{"$f":"Участие!K20","v":3}]

{"sheet":"Участие","index":2,"n_rows":20,"n_cols":11,"rows_kept":20,"merged":[[0,0,0,10],[1,0,1,10],[2,2,2,3],[2,4,2,5],[2,6,2,9],[4,0,4,10]]}
["Результаты участия учащихся объединения  в 2022-2023 у.г.  в мероприятиях и конкурсах различного уровня "]
[{"$f":"'Журнал К'!A2","v":" \"Шахматы\""}]
["№№","ФИО учащегося","Муниципальный уровень",null,"Республиканский  уровень",null," Всероссийский и международный уровень",{"$nulls":3},"средний балл  "]
[" "," ","Участие","Приз","Участие","Приз","Участие","Приз","Участие И","Приз И"]
[1]
[1,{"$f":"'Журнал К'!B6","v":"Анастасия"},1,null,1," "," "," ",1,1,{"$f":"SUM(C6:J6)","v":4}]
[2,{"$f":"'Журнал К'!B7","v":"Булат"},1,{"$nulls":5},1,1,{"$f":"SUM(C7:J7)","v":3}]
[3,{"$f":"'Журнал К'!B8","v":"Владимир"},1,null,1,{"$nulls":3},1,1,4]
[4,{"$f":"'Журнал К'!B9","v":"Дмитрий"},1,null,1,{"$nulls":3},1,1,4]
[5,{"$f":"'Журнал К'!B10","v":"Евгения"},1,{"$nulls":4},1,1,1,4]
[6,{"$f":"'Журнал К'!B11","v":"Игорь"},1,{"$nulls":5},1,1,3]
[7,{"$f":"'Журнал К'!B12","v":"Камиль"},1,null,1,{"$nulls":3},1,1,4]
[8,{"$f":"'Журнал К'!B13","v":"Ленара"},1,{"$nulls":4},1,1,1,4]
[9,{"$f":"'Журнал К'!B14","v":"Мурат"},1,{"$nulls":5},1,1,3]
[10,{"$f":"'Журнал К'!B15","v":"Олег"},1,null,1,null,1,null,1,1,5]
[11,{"$f":"'Журнал К'!B16","v":"Петр"},1,{"$nulls":5},1,1,3]
[12,{"$f":"'Журнал К'!B17","v":"Самат"},1,null,1,{"$nulls":3},1,1,4]
[13,{"$f":"'Журнал К'!B18","v":"Самина"},1,{"$nulls":5},1,1,3]
[14,{"$f":"'Журнал К'!B19","v":"Тарас"},1,1,1,1,1,1,1,1,8]
[15,{"$f":"'Журнал К'!B20","v":"Тимур"},1,{"$nulls":5},1,1,3]

{"sheet":"ВД","index":3,"n_rows":19,"n_cols":4,"rows_kept":19,"merged":[[0,0,0,3],[1,0,1,3],[3,0,3,3]]}
["Результаты входной диагностики 2022-2023 у.г. учащихся по группам объединения                            "]
[{"$f":"'Журнал К'!A2","v":" \"Шахматы\""}]
["№№","ФИО учащегося","Входная диагностика","средний балл в группе"]
[1]
[1,{"$f":"'Журнал К'!B6","v":"Анастасия"},{"$f":"'Журнал К'!I6","v":30}]
[2,{"$f":"'Журнал К'!B7","v":"Булат"},{"$f":"'Журнал К'!I7","v":15}]
[3,{"$f":"'Журнал К'!B8","v":"Владимир"},{"$f":"'Журнал К'!I8","v":45}]
[4,{"$f":"'Журнал К'!B9","v":"Дмитрий"},{"$f":"'Журнал К'!I9","v":15}]
[5,{"$f":"'Журнал К'!B10","v":"Евгения"},{"$f":"'Журнал К'!I10","v":30}]
[6,{"$f":"'Журнал К'!B11","v":"Игорь"},{"$f":"'Журнал К'!I11","v":30}]
[7,{"$f":"'Журнал К'!B12","v":"Камиль"},{"$f":"'Журнал К'!I12","v":30}]
[8,{"$f":"'Журнал К'!B13","v":"Ленара"},{"$f":"'Журнал К'!I13","v":15}]
[9,{"$f":"'Журнал К'!B14","v":"Мурат"},{"$f":"'Журнал К'!I14","v":45}]
[10,{"$f":"'Журнал К'!B15","v":"Олег"},{"$f":"'Журнал К'!I15","v":0}]
[11,{"$f":"'Журнал К'!B16","v":"Петр"},{"$f":"'Журнал К'!I16","v":30}]
[12,{"$f":"'Журнал К'!B17","v":"Самат"},{"$f":"'Журнал К'!I17","v":0}]
[13,{"$f":"'Журнал К'!B18","v":"Самина"},{"$f":"'Журнал К'!I18","v":45}]
[14,{"$f":"'Журнал К'!B19","v":"Тарас"},{"$f":"'Журнал К'!I19","v":30}]
[15,{"$f":"'Журнал К'!B20","v":"Тимур"},{"$f":"'Журнал К'!I20","v":0}]

{"sheet":"Протокол ВД","index":4,"n_rows":12,"n_cols":4,"rows_kept":12,"merged":[[0,0,0,6],[1,0,1,6],[2,0,2,3],[3,0,3,3],[4,0,4,6],[5,0,5,6],[10,0,10,3],[11,0,11,3]]}
["Протокол результатов входной диагностики 2022-2023 у.г.                             учащихся по группам объединения"]
[{"$f":"'Журнал К'!A2","v":" \"Шахматы\""}]
["Форма диагностики:   "]
["  "]
["Входная диагностика завершена  20.09.2022"]
[]
["Всего аттестовано учащихся в 2 группах:","Баллы",{"$f":"COUNTIF(ВД!C5:C35,\"<=100\")","v":15},"%%"]
["Высокий уровень ЗУН","80-100",{"$f":"COUNTIF(ВД!C5:C35,\">=80\")","v":0},{"$f":"(C8*100)/C7","v":0}]
["Средний уровень ЗУН","50-79",{"$f":"C7-C8-C10","v":0},{"$f":"(C9*100)/C7","v":0}]
["Низкий уровень ЗУН","0-49",{"$f":"COUNTIF(ВД!C5:C35,\"<=49\")","v":15},{"$f":"(C10*100)/C7","v":100}]
["ПедагогДО__________________ Шахматов Ф.К."]
["Подпись ответственного (-ых)_____________________________    "]

{"sheet":"ПА","index":6,"n_rows":19,"n_cols":8,"rows_kept":19,"merged":[[0,0,0,3],[1,0,1,3],[3,0,3,3]]}
["Результаты промежуточной аттестации 2022-2023 у.г. учащихся по группам объединения                            "]
[{"$f":"'Журнал К'!A2","v":" \"Шахматы\""}]
["№№","ФИО учащегося","Промежуточная аттестация","средний балл в группе",{"$nulls":3}," "]
[1]
[1,{"$f":"'Журнал К'!B6","v":"Анастасия"},{"$f":"'Журнал К'!P6","v":60}]
[2,{"$f":"'Журнал К'!B7","v":"Булат"},{"$f":"'Журнал К'!P7","v":60}]
[3,{"$f":"'Журнал К'!B8","v":"Владимир"},{"$f":"'Журнал К'!P8","v":75}]
[4,{"$f":"'Журнал К'!B9","v":"Дмитрий"},{"$f":"'Журнал К'!P9","v":60}]
[5,{"$f":"'Журнал К'!B10","v":"Евгения"},{"$f":"'Журнал К'!P10","v":60}]
[6,{"$f":"'Журнал К'!B11","v":"Игорь"},{"$f":"'Журнал К'!P11","v":60}]
[7,{"$f":"'Журнал К'!B12","v":"Камиль"},{"$f":"'Журнал К'!P12","v":75}]
[8,{"$f":"'Журнал К'!B13","v":"Ленара"},{"$f":"'Журнал К'!P13","v":60}]
[9,{"$f":"'Журнал К'!B14","v":"Мурат"},{"$f":"'Журнал К'!P14","v":90}]
[10,{"$f":"'Журнал К'!B15","v":"Олег"},{"$f":"'Журнал К'!P15","v":60}]
[11,{"$f":"'Журнал К'!B16","v":"Петр"},{"$f":"'Журнал К'!P16","v":60}]
[12,{"$f":"'Журнал К'!B17","v":"Самат"},{"$f":"'Журнал К'!P17","v":60}]
[13,{"$f":"'Журнал К'!B18","v":"Самина"},{"$f":"'Журнал К'!P18","v":75}]
[14,{"$f":"'Журнал К'!B19","v":"Тарас"},{"$f":"'Журнал К'!P19","v":60}]
[15,{"$f":"'Журнал К'!B20","v":"Тимур"},{"$f":"'Журнал К'!P20","v":60}]

{"sheet":"Протокол ПА","index":7,"n_rows":12,"n_cols":4,"rows_kept":12,"merged":[[0,0,0,6],[1,0,1,6],[2,0,2,3],[3,0,3,3],[4,0,4,6],[5,0,5,6],[10,0,10,3],[11,0,11,3]]}
["Протокол результатов промежуточной аттестации  2022-2023 у.г.                           учащихся  по группам объединения"]
[{"$f":"'Журнал К'!A2","v":" \"Шахматы\""}]
["Форма аттестации:   "]
["  "]
["Аттестация завершена  25.12.2022"]
[]
["Всего аттестовано учащихся в 2 группах:","Баллы",{"$f":"COUNTIF(ПА!C5:C20,\"<=100\")","v":15},"%%"]
["Высокий уровень ЗУН","80-100",{"$f":"COUNTIF(ПА!C5:C20,\">=80\")","v":1},{"$f":"(C8*100)/C7","v":{"v":6.666666666666667,"d":"7"}}]
["Средний уровень ЗУН","50-79",{"$f":"C7-C8-C10","v":14},{"$f":"(C9*100)/C7","v":{"v":93.33333333333333,"d":"93"}}]
["Низкий уровень ЗУН","0-49",{"$f":"COUNTIF(ПА!C5:C20,\"<=49\")","v":0},{"$f":"(C10*100)/C7","v":0}]
[{"$f":"'Протокол ВД'!A11","v":"ПедагогДО__________________ Шахматов Ф.К."}]
["Подпись ответственного (-ых)_____________________________    "]

{"sheet":"А","index":9,"n_rows":19,"n_cols":4,"rows_kept":19,"merged":[[0,0,0,3],[1,0,1,3],[3,0,3,3]]}
["Результаты  аттестации по завершению реализации программы 2022-2023 у.г. учащихся по группам объединения                            "]
[{"$f":"'Журнал К'!A2","v":" \"Шахматы\""}]
["№№","ФИО учащегося","Аттестация по завершению реализации программы","средний балл в группе"]
[1]
[1,{"$f":"'Журнал К'!B6","v":"Анастасия"},{"$f":"'Журнал К'!W6","v":64}]
[2,{"$f":"'Журнал К'!B7","v":"Булат"},{"$f":"'Журнал К'!W7","v":78}]
[3,{"$f":"'Журнал К'!B8","v":"Владимир"},{"$f":"'Журнал К'!W8","v":94}]
[4,{"$f":"'Журнал К'!B9","v":"Дмитрий"},{"$f":"'Журнал К'!W9","v":64}]
[5,{"$f":"'Журнал К'!B10","v":"Евгения"},{"$f":"'Журнал К'!W10","v":64}]
[6,{"$f":"'Журнал К'!B11","v":"Игорь"},{"$f":"'Журнал К'!W11","v":63}]
[7,{"$f":"'Журнал К'!B12","v":"Камиль"},{"$f":"'Журнал К'!W12","v":94}]
[8,{"$f":"'Журнал К'!B13","v":"Ленара"},{"$f":"'Журнал К'!W13","v":64}]
[9,{"$f":"'Журнал К'!B14","v":"Мурат"},{"$f":"'Журнал К'!W14","v":93}]
[10,{"$f":"'Журнал К'!B15","v":"Олег"},{"$f":"'Журнал К'!W15","v":80}]
[11,{"$f":"'Журнал К'!B16","v":"Петр"},{"$f":"'Журнал К'!W16","v":63}]
[12,{"$f":"'Журнал К'!B17","v":"Самат"},{"$f":"'Журнал К'!W17","v":79}]
[13,{"$f":"'Журнал К'!B18","v":"Самина"},{"$f":"'Журнал К'!W18","v":93}]
[14,{"$f":"'Журнал К'!B19","v":"Тарас"},{"$f":"'Журнал К'!W19","v":83}]
[15,{"$f":"'Журнал К'!B20","v":"Тимур"},{"$f":"'Журнал К'!W20","v":78}]

{"sheet":"Протокол А ","index":10,"n_rows":12,"n_cols":4,"rows_kept":12,"merged":[[0,0,0,6],[1,0,1,6],[2,0,2,3],[3,0,3,3],[4,0,4,6],[5,0,5,6],[10,0,10,3],[11,0,11,3]]}
["Протокол результатов аттестации по завершению реализации программы  2022-2023 у.г. учащихся  по группам объединения"]
[{"$f":"'Журнал К'!A2","v":" \"Шахматы\""}]
["Форма аттестации:  "]
["  "]
["Аттестация завершена  20.05.2023"]
[]
["Всего аттестовано учащихся в 2 группах:","Баллы",{"$f":"COUNTIF(А!C5:C41,\"<=100\")","v":15},"%%"]
["Высокий уровень ЗУН","80-100",{"$f":"COUNTIF(А!C5:C41,\">=80\")","v":6},{"$f":"(C8*100)/C7","v":40}]
["Средний уровень ЗУН","50-79",{"$f":"C7-C8-C10","v":9},{"$f":"(C9*100)/C7","v":60}]
["Низкий уровень ЗУН","0-49",{"$f":"COUNTIF(А!C5:C41,\"<=49\")","v":0},{"$f":"(C10*100)/C7","v":0}]
[{"$f":"'Протокол ВД'!A11","v":"ПедагогДО__________________ Шахматов Ф.К."}]
["Подпись ответственного (-ых)_____________________________    "]